BEGIN:VCALENDAR
VERSION:2.0
PRODID:-//Myanmar Mission, Geneva - ECPv4.6.21//NONSGML v1.0//EN
CALSCALE:GREGORIAN
METHOD:PUBLISH
X-WR-CALNAME:Myanmar Mission, Geneva
X-ORIGINAL-URL:https://new.myanmargeneva.org
X-WR-CALDESC:Events for Myanmar Mission, Geneva
BEGIN:VEVENT
DTSTART;VALUE=DATE:20180104
DTEND;VALUE=DATE:20180105
DTSTAMP:20260424T135142
CREATED:20180104T000007Z
LAST-MODIFIED:20180920T135622Z
UID:3230-1515024000-1515110399@new.myanmargeneva.org
SUMMARY:Daily News
DESCRIPTION:The Global New Light of Myanmar \nThe Mirror \nMyanma Alinn \n
URL:https://new.myanmargeneva.org/event/daily-news-349/
CATEGORIES:Daily News
END:VEVENT
END:VCALENDAR